BEGIN:VCALENDAR
VERSION:2.0
PRODID:-//http://mairiedefumel.fr///NONSGML kigkonsult.se iCalcreator 2.10.15//
METHOD:PUBLISH
BEGIN:VEVENT
UID:20260420T033823CEST-6379p9sWKj@http://mairiedefumel.fr/
DTSTAMP:20260420T013823Z
DESCRIPTION:L'association SOS Surendettement assure une permanence tous les
  jeudis de 14h à 17h au CCAS - Mairie de Fumel - Place du ChâteauRendez-vo
 us au 05 53 49 30 11 http://mairiedefumel.fr/component/rseventspro/event/1
 144-permanence-sos-surendettement
DTSTART:20240502T140000Z
DTEND:20240502T170000Z
LOCATION:CCAS - Mairie de Fumel (1 place du Château - 47500 Fumel)
SUMMARY:Permanence SOS Surendettement
URL:http://mairiedefumel.fr/component/rseventspro/event/1144-permanence-sos
 -surendettement
END:VEVENT
END:VCALENDAR
