BEGIN:VCALENDAR
VERSION:2.0
PRODID:-//http://mairiedefumel.fr///NONSGML kigkonsult.se iCalcreator 2.10.15//
METHOD:PUBLISH
BEGIN:VEVENT
UID:20260423T090410CEST-6618zctKH2@http://mairiedefumel.fr/
DTSTAMP:20260423T070410Z
DESCRIPTION:Permanence de Monsieur René THOUEILLE\, conciliateur de justice
  au CCAS - Mairie de Fumel tous les 1er et 3ème lundi du mois de 13h30 à 1
 7hUniquement sur rendez-vous :05 53 49 59 7905 53 49 59 65 http://mairiede
 fumel.fr/component/rseventspro/event/1198-permanence-conciliateur-de-justi
 ce
DTSTART:20240909T133000Z
DTEND:20240909T170000Z
LOCATION:CCAS - Mairie de Fumel (1 place du Château - 47500 Fumel)
SUMMARY:Permanence conciliateur de justice
URL:http://mairiedefumel.fr/component/rseventspro/event/1198-permanence-con
 ciliateur-de-justice
END:VEVENT
END:VCALENDAR
