BEGIN:VCALENDAR
VERSION:2.0
PRODID:-//http://mairiedefumel.fr///NONSGML kigkonsult.se iCalcreator 2.10.15//
METHOD:PUBLISH
BEGIN:VEVENT
UID:20260423T050537CEST-1829nJwbZz@http://mairiedefumel.fr/
DTSTAMP:20260423T030537Z
DESCRIPTION: Le Consulat Général du Portugal tiendra une permanence à la ma
 irie de Fumel\, salle du Conseil Municipal\, de 9h30 à 17h30.\nLes personn
 es intéressées doivent prendre rendez-vous auprès du Consulat de Bordeaux 
 : Par téléphone au 05 56 00 68 26 ou par mail : consulado.bordeus@mne.pt h
 ttp://mairiedefumel.fr/component/rseventspro/event/196-permanence-du-consu
 lat-general-du-portugal
DTSTART:20200320T000000Z
LOCATION:Place du Château (Place du Château\, 47500 Fumel\, France)
SUMMARY:Permanence du Consulat Général du Portugal
URL:http://mairiedefumel.fr/component/rseventspro/event/196-permanence-du-c
 onsulat-general-du-portugal
END:VEVENT
END:VCALENDAR
