BEGIN:VCALENDAR
VERSION:2.0
PRODID:-//http://mairiedefumel.fr///NONSGML kigkonsult.se iCalcreator 2.10.15//
METHOD:PUBLISH
BEGIN:VEVENT
UID:20260421T074132CEST-6840VD1dnM@http://mairiedefumel.fr/
DTSTAMP:20260421T054132Z
DESCRIPTION:Permanence de 10h à 12h - salle du Conseil Municipal à la mairi
 e de FumelRenseignements auprès du CCAS de Fumel : 05 53 49 59 79 ou 05 53
  49 59 65 http://mairiedefumel.fr/component/rseventspro/event/735-point-ju
 stice
DTSTART:20220310T100000Z
DTEND:20220310T120000Z
LOCATION:Mairie de Fumel\, salle du conseil municipal ()
SUMMARY:Point Justice
URL:http://mairiedefumel.fr/component/rseventspro/event/735-point-justice
END:VEVENT
END:VCALENDAR
