BEGIN:VCALENDAR
VERSION:2.0
PRODID:-//http://mairiedefumel.fr///NONSGML kigkonsult.se iCalcreator 2.10.15//
METHOD:PUBLISH
BEGIN:VEVENT
UID:20260420T165220CEST-05396HOXnl@http://mairiedefumel.fr/
DTSTAMP:20260420T145220Z
DESCRIPTION:Rendez-vous en ligne sur Espace Privé MSA : https://www.msa.fr/
 lfp/espace-priveou auprès du CCAS de Fumel au 05 53 49 59 79 ou 05 53 49 5
 9 65 http://mairiedefumel.fr/votre-ville/agenda/event/1015-permanence-msa
DTSTART:20231012T000000Z
LOCATION:CCAS - Mairie de Fumel (1 place du Château - 47500 Fumel)
SUMMARY:Permanence MSA
URL:http://mairiedefumel.fr/votre-ville/agenda/event/1015-permanence-msa
END:VEVENT
END:VCALENDAR
