BEGIN:VCALENDAR
VERSION:2.0
PRODID:-//http://mairiedefumel.fr///NONSGML kigkonsult.se iCalcreator 2.10.15//
METHOD:PUBLISH
BEGIN:VEVENT
UID:20260423T142135CEST-9211bD24Fo@http://mairiedefumel.fr/
DTSTAMP:20260423T122135Z
DESCRIPTION:Permanence Point Conseil Budget proposée par APTIM\nRendez-vous
  auprès du CCAS de Fumel au 05 53 49 59 79 ou 05 53 49 59 65 http://mairie
 defumel.fr/votre-ville/agenda/event/1044-permanence-point-conseil-budget
DTSTART:20231124T133000Z
DTEND:20231124T160000Z
LOCATION:CCAS - Mairie de Fumel (1 place du Château - 47500 Fumel)
SUMMARY:Permanence Point Conseil Budget
URL:http://mairiedefumel.fr/votre-ville/agenda/event/1044-permanence-point-
 conseil-budget
END:VEVENT
END:VCALENDAR
