BEGIN:VCALENDAR
VERSION:2.0
PRODID:-//http://mairiedefumel.fr///NONSGML kigkonsult.se iCalcreator 2.10.15//
METHOD:PUBLISH
BEGIN:VEVENT
UID:20260425T185014CEST-7908U40OHu@http://mairiedefumel.fr/
DTSTAMP:20260425T165014Z
DESCRIPTION:Cérémonie pour la Journée nationale de la Résistance\n18h30 - M
 onument aux morts de Fumel http://mairiedefumel.fr/votre-ville/agenda/even
 t/1166-journee-nationale-de-la-resistance
DTSTART:20240527T183000Z
DTEND:20240527T190000Z
LOCATION:Monument aux morts Voltaire (8 Place Voltaire\, 47500 Fumel\, Fran
 ce)
SUMMARY:Journée nationale de la Résistance
URL:http://mairiedefumel.fr/votre-ville/agenda/event/1166-journee-nationale
 -de-la-resistance
END:VEVENT
END:VCALENDAR
