BEGIN:VCALENDAR
VERSION:2.0
PRODID:-//http://mairiedefumel.fr///NONSGML kigkonsult.se iCalcreator 2.10.15//
METHOD:PUBLISH
BEGIN:VEVENT
UID:20260422T030809CEST-6628uL6e5E@http://mairiedefumel.fr/
DTSTAMP:20260422T010809Z
DESCRIPTION:L'anniversaire de l'Appel Historique du 18 juin 1940 sera céléb
 ré à Fumel le jeudi 18 juin 2020.La cérémonie commémorative aura lieu au M
 onument aux Morts de Fumel à 18h30. http://mairiedefumel.fr/votre-ville/ag
 enda/event/126-commemoration-appel-historique-du-18-juin-1940
DTSTART:20200618T000000Z
LOCATION:Monument aux morts Voltaire (8 Place Voltaire\, 47500 Fumel\, Fran
 ce)
SUMMARY:Commémoration : Appel historique du 18 juin 1940
URL:http://mairiedefumel.fr/votre-ville/agenda/event/126-commemoration-appe
 l-historique-du-18-juin-1940
END:VEVENT
END:VCALENDAR
