BEGIN:VCALENDAR
VERSION:2.0
PRODID:-//http://mairiedefumel.fr///NONSGML kigkonsult.se iCalcreator 2.10.15//
METHOD:PUBLISH
BEGIN:VEVENT
UID:20260420T113828CEST-17417fDrB3@http://mairiedefumel.fr/
DTSTAMP:20260420T093828Z
DESCRIPTION:ANNULÉ EN RAISON DE L'ÉPIDÉMIE DE COVID-19\nLa mairie de Fumel 
 invite les artistes à venir vous faire découvrir leur univers. \nIls expos
 ent dans les galeries du château de Fumel entre le 6 et le 21 juin\, du lu
 ndi au samedi de 14h à 18h et le dimanche de 10h à 12h et de 14h à 18h. \n
 Entrée libre. http://mairiedefumel.fr/votre-ville/agenda/event/469-annule-
 expoplurielle
DTSTART:20200606T000000Z
LOCATION:Château de Fumel (1 Place Georges Escande\, 47500 Fumel\, France)
SUMMARY:ANNULÉ - Expoplurielle
URL:http://mairiedefumel.fr/votre-ville/agenda/event/469-annule-expopluriel
 le
END:VEVENT
END:VCALENDAR
