BEGIN:VCALENDAR
VERSION:2.0
PRODID:-//http://mairiedefumel.fr///NONSGML kigkonsult.se iCalcreator 2.10.15//
METHOD:PUBLISH
BEGIN:VEVENT
UID:20260425T130114CEST-9025ShVXuN@http://mairiedefumel.fr/
DTSTAMP:20260425T110114Z
DESCRIPTION: \nSamedi 7 décembre\, à partir de 14 heures\, place du Château
 \, toutes les activités seront gratuites à l’occasion du Noël des enfants 
 de Fumel : réalisation de décorations de Noël avec les bénévoles des assoc
 iations de parents d’élèves et les élus municipaux\, manèges\, trampolines
 \, structures gonflables\, balades à poney avec l’écurie de la Thèze\, par
 cours en trottinette...\nLes enfants pourront aussi déposer leur lettre da
 ns la boîte aux lettres du Père Noël et visiter les décors de Noël sous le
 s arcades du Château (à voir tout le mois de décembre)\nEn clôture de la j
 ournée\, il ne faudra pas manquer cette année l’impressionnant spectacle d
 e feu présenté par la compagnie Drakonia à 18h30\, sur la place du Château
 .\n \n  http://mairiedefumel.fr/votre-ville/agenda/event/508-noel-des-enfa
 nts
DTSTART:20191207T000000Z
LOCATION:Salle Jean Goujon à Fumel (8 Place Georges Escande\, 47500 Fumel\,
  France)
SUMMARY:Noël des Enfants
URL:http://mairiedefumel.fr/votre-ville/agenda/event/508-noel-des-enfants
END:VEVENT
END:VCALENDAR
