BEGIN:VCALENDAR
VERSION:2.0
PRODID:-//http://mairiedefumel.fr///NONSGML kigkonsult.se iCalcreator 2.10.15//
METHOD:PUBLISH
BEGIN:VEVENT
UID:20260425T021546CEST-5206r5EUsx@http://mairiedefumel.fr/
DTSTAMP:20260425T001546Z
DESCRIPTION:Permanence de Monsieur René THOUEILLE\, conciliateur de justice
  à la Mairie de Fumel tous les 1er et 3ème lundi du mois de 13h30 à 17hUni
 quement sur rendez-vous :05 53 49 59 7905 53 49 59 65 http://mairiedefumel
 .fr/votre-ville/agenda/event/604-permanence-conciliateur-de-justice
DTSTART:20210201T133000Z
DTEND:20210201T170000Z
LOCATION:Salle du Conseil Municipal (1 Place Georges Escande\, 47500 Fumel\
 , France)
SUMMARY:Permanence conciliateur de justice
URL:http://mairiedefumel.fr/votre-ville/agenda/event/604-permanence-concili
 ateur-de-justice
END:VEVENT
END:VCALENDAR
