BEGIN:VCALENDAR
VERSION:2.0
PRODID:-//http://mairiedefumel.fr///NONSGML kigkonsult.se iCalcreator 2.10.15//
METHOD:PUBLISH
BEGIN:VEVENT
UID:20260425T171256CEST-11835g3MJ7@http://mairiedefumel.fr/
DTSTAMP:20260425T151256Z
DESCRIPTION:Permanence de la CARSAT de 9h à 17hUniquement sur rendez-vous a
 u 05 53 49 59 79 ou 05 53 49 59 65 http://mairiedefumel.fr/votre-ville/age
 nda/event/619-permanence-carsat
DTSTART:20210210T090000Z
DTEND:20210210T170000Z
LOCATION:Centre d’Accueil Municipal  ()
SUMMARY:Permanence CARSAT
URL:http://mairiedefumel.fr/votre-ville/agenda/event/619-permanence-carsat
END:VEVENT
END:VCALENDAR
