BEGIN:VCALENDAR
VERSION:2.0
PRODID:-//http://mairiedefumel.fr///NONSGML kigkonsult.se iCalcreator 2.10.15//
METHOD:PUBLISH
BEGIN:VEVENT
UID:20260420T190056CEST-38560FigNi@http://mairiedefumel.fr/
DTSTAMP:20260420T170056Z
DESCRIPTION:Permanence les 3ème jeudis de chaque mois de 9h à 12h - salle d
 u Conseil Municipal à la mairie de Fumel\nRendez-vous auprès du CCAS de Fu
 mel : 05 53 49 59 79 ou 05 53 49 59 65 http://mairiedefumel.fr/votre-ville
 /agenda/event/640-permanence-defenseur-des-droits
DTSTART:20210923T090000Z
DTEND:20210923T120000Z
LOCATION:Maire de Fumel\, salle du conseil municipal ()
SUMMARY:Permanence Défenseur des Droits
URL:http://mairiedefumel.fr/votre-ville/agenda/event/640-permanence-defense
 ur-des-droits
END:VEVENT
END:VCALENDAR
