BEGIN:VCALENDAR
VERSION:2.0
PRODID:-//http://mairiedefumel.fr///NONSGML kigkonsult.se iCalcreator 2.10.15//
METHOD:PUBLISH
BEGIN:VEVENT
UID:20260420T163608CEST-9608Du6Zg5@http://mairiedefumel.fr/
DTSTAMP:20260420T143608Z
DESCRIPTION:Jeudi 25 août à partir de 19h : soirée Créole \nau boulodrome (
 Oasis) de Fumel - à côté du parking de la Mairie\nanimation musicale par D
 J DadouMenu : poulet masalé ou rougail saucissepréparé par WillyPrix : 10€
  Réservations repas au 06 45 45 44 10 http://mairiedefumel.fr/votre-ville/
 agenda/event/779-soiree-creole
DTSTART:20220825T190000Z
DTEND:20220825T235500Z
LOCATION:Ville de Fumel ()
SUMMARY:Soirée Créole
URL:http://mairiedefumel.fr/votre-ville/agenda/event/779-soiree-creole
END:VEVENT
END:VCALENDAR
