BEGIN:VCALENDAR
VERSION:2.0
PRODID:-//http://mairiedefumel.fr///NONSGML kigkonsult.se iCalcreator 2.10.15//
METHOD:PUBLISH
BEGIN:VEVENT
UID:20260424T133938CEST-6172PB9Bai@http://mairiedefumel.fr/
DTSTAMP:20260424T113938Z
DESCRIPTION:PASS (Permanence d’Accès aux Soins de Santé) au CCAS - Mairie d
 e Fumelproposée par le Pôle de Santé du VilleneuvoisRendez-vous auprès du 
 CCAS de Fumel au 05 53 49 59 79 ou 05 53 49 59 65 http://mairiedefumel.fr/
 votre-ville/agenda/event/937-pass-permanence-d-acces-aux-soins-de-sante
DTSTART:20230522T140000Z
DTEND:20230522T170000Z
LOCATION:CCAS - Mairie de Fumel (1 place du Château - 47500 Fumel)
SUMMARY:PASS (Permanence d’Accès aux Soins de Santé)
URL:http://mairiedefumel.fr/votre-ville/agenda/event/937-pass-permanence-d-
 acces-aux-soins-de-sante
END:VEVENT
END:VCALENDAR
