BEGIN:VCALENDAR
VERSION:2.0
PRODID:-//http://mairiedefumel.fr///NONSGML kigkonsult.se iCalcreator 2.10.15//
METHOD:PUBLISH
BEGIN:VEVENT
UID:20260422T235032CEST-3332ZaVejr@http://mairiedefumel.fr/
DTSTAMP:20260422T215032Z
DESCRIPTION:Permanence de 9h à 12h au CCAS - Mairie de Fumel\nRendez-vous a
 uprès du CCAS de Fumel : 05 53 49 59 79 ou 05 53 49 59 65 http://mairiedef
 umel.fr/votre-ville/agenda/event/939-permanence-defenseur-des-droits
DTSTART:20230622T090000Z
DTEND:20230622T120000Z
LOCATION:CCAS - Mairie de Fumel (1 place du Château - 47500 Fumel)
SUMMARY:Permanence Défenseur des Droits
URL:http://mairiedefumel.fr/votre-ville/agenda/event/939-permanence-defense
 ur-des-droits
END:VEVENT
END:VCALENDAR
