BEGIN:VCALENDAR
VERSION:2.0
PRODID:-//http://mairiedefumel.fr///NONSGML kigkonsult.se iCalcreator 2.10.15//
METHOD:PUBLISH
BEGIN:VEVENT
UID:20260423T014457CEST-69284VDIFG@http://mairiedefumel.fr/
DTSTAMP:20260422T234457Z
DESCRIPTION:Permanence Point Conseil Budget proposée par APTIM\nRendez-vous
  auprès du CCAS de Fumel au 05 53 49 59 79 ou 05 53 49 59 65 http://mairie
 defumel.fr/votre-ville/agenda/event/955-permanence-point-conseil-budget
DTSTART:20230623T133000Z
DTEND:20230623T160000Z
LOCATION:CCAS - Mairie de Fumel (1 place du Château - 47500 Fumel)
SUMMARY:Permanence Point Conseil Budget
URL:http://mairiedefumel.fr/votre-ville/agenda/event/955-permanence-point-c
 onseil-budget
END:VEVENT
END:VCALENDAR
