BEGIN:VCALENDAR
VERSION:2.0
PRODID:-//http://mairiedefumel.fr///NONSGML kigkonsult.se iCalcreator 2.10.15//
METHOD:PUBLISH
BEGIN:VEVENT
UID:20260422T234909CEST-1908eHtSnz@http://mairiedefumel.fr/
DTSTAMP:20260422T214909Z
DESCRIPTION:Permanence CPAM\, au CCAS - Mairie de Fumel de 9h à 12h &amp\; 
 de 13h30 à 15h30\nRendez-vous au 05 53 49 59 79 ou 05 53 49 59 65 http://m
 airiedefumel.fr/votre-ville/agenda/event/957-permanence-cpam
DTSTART:20230614T000000Z
LOCATION:CCAS - Mairie de Fumel (1 place du Château - 47500 Fumel)
SUMMARY:Permanence CPAM
URL:http://mairiedefumel.fr/votre-ville/agenda/event/957-permanence-cpam
END:VEVENT
END:VCALENDAR
