BEGIN:VCALENDAR
VERSION:2.0
PRODID:-//https://mairiedefumel.fr///NONSGML kigkonsult.se iCalcreator 2.10.15//
METHOD:PUBLISH
BEGIN:VEVENT
UID:20260420T160054CEST-5493hShzVw@https://mairiedefumel.fr/
DTSTAMP:20260420T140054Z
DESCRIPTION:Permanence les 3ème jeudis de chaque mois de 9h à 12h - salle d
 u Conseil Municipal à la mairie de Fumel\nRendez-vous auprès du CCAS de Fu
 mel : 05 53 49 59 79 ou 05 53 49 59 65 https://mairiedefumel.fr/component/
 rseventspro/event/770-permanence-defenseur-des-droits
DTSTART:20220421T090000Z
DTEND:20220421T120000Z
LOCATION:Maire de Fumel\, salle du conseil municipal ()
SUMMARY:Permanence Défenseur des Droits
URL:https://mairiedefumel.fr/component/rseventspro/event/770-permanence-def
 enseur-des-droits
END:VEVENT
END:VCALENDAR
