BEGIN:VCALENDAR
VERSION:2.0
PRODID:-//https://mairiedefumel.fr///NONSGML kigkonsult.se iCalcreator 2.10.15//
METHOD:PUBLISH
BEGIN:VEVENT
UID:20260420T071232CEST-3062vtnUDM@https://mairiedefumel.fr/
DTSTAMP:20260420T051232Z
DESCRIPTION:Permanence de 10h à 12h au CCAS - Mairie de FumelRenseignements
  auprès du CCAS de Fumel : 05 53 49 59 79 ou 05 53 49 59 65 https://mairie
 defumel.fr/component/rseventspro/event/791-point-justice
DTSTART:20220908T100000Z
DTEND:20220908T120000Z
LOCATION:CCAS - Mairie de Fumel (1 place du Château - 47500 Fumel)
SUMMARY:Point Justice
URL:https://mairiedefumel.fr/component/rseventspro/event/791-point-justice
END:VEVENT
END:VCALENDAR
