BEGIN:VCALENDAR
VERSION:2.0
PRODID:-//https://mairiedefumel.fr///NONSGML kigkonsult.se iCalcreator 2.10.15//
METHOD:PUBLISH
BEGIN:VEVENT
UID:20260419T205518CEST-9718d1lF6J@https://mairiedefumel.fr/
DTSTAMP:20260419T185518Z
DESCRIPTION:au Centre d'Accueil municipal - 30 avenue Léon Blum à Fumel\nde
  18h à 20h\nhttps://lesamisdelasante-lotetgaronne.fr/ https://mairiedefume
 l.fr/component/rseventspro/event/900-permanence-les-amis-de-la-sante
DTSTART:20230301T180000Z
DTEND:20230301T200000Z
LOCATION:Centre d'Accueil Municipal (avenue Léon Blum 47500 FUMEL)
SUMMARY:Permanence Les Amis de la Santé
URL:https://mairiedefumel.fr/component/rseventspro/event/900-permanence-les
 -amis-de-la-sante
END:VEVENT
END:VCALENDAR
