BEGIN:VCALENDAR
VERSION:2.0
PRODID:-//https://mairiedefumel.fr///NONSGML kigkonsult.se iCalcreator 2.10.15//
METHOD:PUBLISH
BEGIN:VEVENT
UID:20260419T190958CEST-6463U3s1MD@https://mairiedefumel.fr/
DTSTAMP:20260419T170958Z
DESCRIPTION:Permanence de la CARSAT de 9h à 17h  au CCAS - Mairie de Fumel 
 Uniquement sur rendez-vous au 39 60 ou 05 53 49 59 79 ou 05 53 49 59 65 ht
 tps://mairiedefumel.fr/component/rseventspro/event/912-permanence-carsat
DTSTART:20230412T090000Z
DTEND:20230412T170000Z
LOCATION:CCAS - Mairie de Fumel (1 place du Château - 47500 Fumel)
SUMMARY:Permanence CARSAT
URL:https://mairiedefumel.fr/component/rseventspro/event/912-permanence-car
 sat
END:VEVENT
END:VCALENDAR
