BEGIN:VCALENDAR
VERSION:2.0
PRODID:-//https://mairiedefumel.fr///NONSGML kigkonsult.se iCalcreator 2.10.15//
METHOD:PUBLISH
BEGIN:VEVENT
UID:20260419T153226CEST-6951UbwcMw@https://mairiedefumel.fr/
DTSTAMP:20260419T133226Z
DESCRIPTION:L'association SOS Surendettement assure une permanence tous les
  jeudis de 14h à 17h30 au CCAS - Mairie de Fumel - Place du ChâteauRendez-
 vous au 05 53 49 30 11 https://mairiedefumel.fr/component/rseventspro/even
 t/948-permanence-sos-surendettement
DTSTART:20230615T140000Z
DTEND:20230615T173000Z
LOCATION:CCAS - Mairie de Fumel (1 place du Château - 47500 Fumel)
SUMMARY:Permanence SOS Surendettement
URL:https://mairiedefumel.fr/component/rseventspro/event/948-permanence-sos
 -surendettement
END:VEVENT
END:VCALENDAR
