BEGIN:VCALENDAR
VERSION:2.0
PRODID:-//https://mairiedefumel.fr///NONSGML kigkonsult.se iCalcreator 2.10.15//
METHOD:PUBLISH
BEGIN:VEVENT
UID:20260420T071505CEST-71620G3UDh@https://mairiedefumel.fr/
DTSTAMP:20260420T051505Z
DESCRIPTION:L'association SOS Surendettement assure une permanence tous les
  jeudis de 14h à 18h au CCAS - Mairie de Fumel - Place du ChâteauRendez-vo
 us au 05 53 49 30 11 https://mairiedefumel.fr/component/rseventspro/event/
 781-permanence-sos-surendettement
DTSTART:20220901T140000Z
DTEND:20220901T180000Z
LOCATION:CCAS - Mairie de Fumel (1 place du Château - 47500 Fumel)
SUMMARY:Permanence SOS Surendettement
URL:https://mairiedefumel.fr/component/rseventspro/event/781-permanence-sos
 -surendettement
END:VEVENT
END:VCALENDAR
