BEGIN:VCALENDAR
VERSION:2.0
PRODID:-//https://mairiedefumel.fr///NONSGML kigkonsult.se iCalcreator 2.10.15//
METHOD:PUBLISH
BEGIN:VEVENT
UID:20260420T135015CEST-4578V6bdnr@https://mairiedefumel.fr/
DTSTAMP:20260420T115015Z
DESCRIPTION:Permanence CPAM\, au CCAS - Mairie de Fumel de 9h à 12h &amp\; 
 de 13h30 à 16h\nRendez-vous au 05 53 49 59 79 ou 05 53 49 59 65 https://ma
 iriedefumel.fr/votre-ville/agenda/event/1087-permanence-cpam
DTSTART:20240110T000000Z
LOCATION:CCAS - Mairie de Fumel (1 place du Château - 47500 Fumel)
SUMMARY:Permanence CPAM
URL:https://mairiedefumel.fr/votre-ville/agenda/event/1087-permanence-cpam
END:VEVENT
END:VCALENDAR
