BEGIN:VCALENDAR
VERSION:2.0
PRODID:-//https://mairiedefumel.fr///NONSGML kigkonsult.se iCalcreator 2.10.15//
METHOD:PUBLISH
BEGIN:VEVENT
UID:20260423T155053CEST-4913rgSGka@https://mairiedefumel.fr/
DTSTAMP:20260423T135053Z
DESCRIPTION:L'association SOS Surendettement assure une permanence tous les
  jeudis de 14h à 18h au centre d'accueil municipal.Rendez-vous au 05 53 49
  30 11 https://mairiedefumel.fr/votre-ville/agenda/event/720-permanence-so
 s-surendettement
DTSTART:20220106T140000Z
DTEND:20220106T180000Z
LOCATION:Centre d’Accueil Municipal  ()
SUMMARY:Permanence SOS Surendettement
URL:https://mairiedefumel.fr/votre-ville/agenda/event/720-permanence-sos-su
 rendettement
END:VEVENT
END:VCALENDAR
