BEGIN:VCALENDAR
VERSION:2.0
PRODID:-//https://mairiedefumel.fr///NONSGML kigkonsult.se iCalcreator 2.10.15//
METHOD:PUBLISH
BEGIN:VEVENT
UID:20260424T061810CEST-83279nUH1g@https://mairiedefumel.fr/
DTSTAMP:20260424T041810Z
DESCRIPTION:Permanence de Monsieur René THOUEILLE\, conciliateur de justice
  à la Mairie de Fumel tous les 1er et 3ème lundi du mois de 13h30 à 17hUni
 quement sur rendez-vous :05 53 49 59 7905 53 49 59 65 https://mairiedefume
 l.fr/votre-ville/agenda/event/732-permanence-conciliateur-de-justice
DTSTART:20220307T133000Z
DTEND:20220307T170000Z
LOCATION:Salle du Conseil Municipal (1 Place Georges Escande\, 47500 Fumel\
 , France)
SUMMARY:Permanence conciliateur de justice
URL:https://mairiedefumel.fr/votre-ville/agenda/event/732-permanence-concil
 iateur-de-justice
END:VEVENT
END:VCALENDAR
