BEGIN:VCALENDAR
VERSION:2.0
PRODID:-//https://mairiedefumel.fr///NONSGML kigkonsult.se iCalcreator 2.10.15//
METHOD:PUBLISH
BEGIN:VEVENT
UID:20260421T161055CEST-5128H80No2@https://mairiedefumel.fr/
DTSTAMP:20260421T141055Z
DESCRIPTION:Permanence de la CARSAT de 9h à 17hUniquement sur rendez-vous a
 u 39 60 https://mairiedefumel.fr/votre-ville/agenda/event/768-permanence-c
 arsat
DTSTART:20220413T090000Z
DTEND:20220413T170000Z
LOCATION:Centre d’Accueil Municipal  ()
SUMMARY:Permanence CARSAT
URL:https://mairiedefumel.fr/votre-ville/agenda/event/768-permanence-carsat
END:VEVENT
END:VCALENDAR
